BEGIN:VCALENDAR
VERSION:2.0
PRODID:-//eventon.com NONSGML v1.0//EN
CALSCALE:GREGORIAN
METHOD:PUBLISH
BEGIN:VEVENT
UID:69e9c90345e7f
DTSTAMP:20260423T072347Z
DTSTART:20260515T100000Z
DTEND:20260515T130000Z
LOCATION:Court Square
SUMMARY:Bike Anywhere Day
DESCRIPTION:RSVP HERE We are reimagining what was formerly “Bike to Work 
 Day”/ &#8220;Bike Everywhere Day.” Why stop at biking to work? We want 
 to celebrate biking ANYWHERE! In partnership with Harrisonburg Parks and Re
 creation\,  we will host a complimentary breakfast on Court Square from 7:0
 0 to 10:00 a.m. for all[..]\nhttps://svbcoalition.org/events/bike-anywhere-
 day/
URL:https://svbcoalition.org/events/bike-anywhere-day/
END:VEVENT
END:VCALENDAR