BEGIN:VCALENDAR
VERSION:2.0
PRODID:-//eventon.com NONSGML v1.0//EN
CALSCALE:GREGORIAN
METHOD:PUBLISH
BEGIN:VEVENT
UID:69e9c8fe01ecb
DTSTAMP:20260423T072342Z
DTSTART:20260506T100000Z
DTEND:20260506T120000Z
LOCATION:
SUMMARY:Walk\,  Bike and Roll to School Day
DESCRIPTION:Walk\,  Bike &amp; Roll to School Day provides opportunities fo
 r children to interact and socialize with their peers\,  teaches pedestrian
  and bicycle safety skills\,  and creates positive experiences that encoura
 ge active and independent transportation later in life. Most of all\,  itâ€
 ™s a party parade..all before school even starts! This is[..]\nhttps://svbc
 oalition.org/events/walk-bike-and-roll-to-school-day/
URL:https://svbcoalition.org/events/walk-bike-and-roll-to-school-day/
END:VEVENT
END:VCALENDAR