BEGIN:VCALENDAR
VERSION:2.0
PRODID:-//eventon.com NONSGML v1.0//EN
CALSCALE:GREGORIAN
METHOD:PUBLISH
BEGIN:VEVENT
UID:69e9c9569ce15
DTSTAMP:20260423T072510Z
DTSTART:20260422T090000Z
DTEND:20260422T230000Z
LOCATION:Online event
SUMMARY:Great Community Give
DESCRIPTION:On Wednesday\,  April 22\,  you can support local nonprofits an
 d this movement: svbcbike.org/GCG The Great Community Give is a one-day\,  
 online giving event that brings together nonprofits across the Shenandoah V
 alley to celebrate generosity and strengthen the organizations that make th
 is region a better place to live. Powered by the[..]\nhttps://svbcoalition.
 org/events/great-community-give/
URL:https://svbcoalition.org/events/great-community-give/
END:VEVENT
END:VCALENDAR