BEGIN:VCALENDAR
VERSION:2.0
PRODID:-//eventon.com NONSGML v1.0//EN
CALSCALE:GREGORIAN
METHOD:PUBLISH
BEGIN:VEVENT
UID:69e9c96fa3cb1
DTSTAMP:20260423T072535Z
DTSTART:20260502T140000Z
DTEND:20260502T150000Z
LOCATION:Hillandale Park
SUMMARY:DIY Bike Maintenance Clinic
DESCRIPTION:RSVP HERE Dust off your wheels and learn essential bike mainten
 ance skills to keep your biking riding well. Whether you’re a seasoned cy
 clist or just starting out\,  this FREE event offers invaluable knowledge t
 o keep your ride in top condition. This workshop will be presented by Ben W
 yse\,  coordinator of[..]\nhttps://svbcoalition.org/events/diy-bike-mainten
 ance-clinic/
URL:https://svbcoalition.org/events/diy-bike-maintenance-clinic/
END:VEVENT
END:VCALENDAR