BEGIN:VCALENDAR
VERSION:2.0
PRODID:-//eventon.com NONSGML v1.0//EN
CALSCALE:GREGORIAN
METHOD:PUBLISH
BEGIN:VEVENT
UID:69e9c9569da0b
DTSTAMP:20260423T072510Z
DTSTART:20260502T130000Z
DTEND:20260502T150000Z
LOCATION:Hillandale Park
SUMMARY:Bike Rodeo
DESCRIPTION:RSVP HERE! May is National Bike Month and we will be celebratin
 g all month long\,  starting with the Bike Rodeo! In collaboration with Har
 risonburg Parks and Recreation\,  come out to Hillandale Park to get your b
 ikes ready for summer riding! We will help you adjust your bike\,  inflate 
 your tires\, [..]\nhttps://svbcoalition.org/events/bike-rodeo/
URL:https://svbcoalition.org/events/bike-rodeo/
END:VEVENT
END:VCALENDAR