BEGIN:VCALENDAR
VERSION:2.0
PRODID:-//eventon.com NONSGML v1.0//EN
CALSCALE:GREGORIAN
METHOD:PUBLISH
BEGIN:VEVENT
UID:69e9c92c8411d
DTSTAMP:20260423T072428Z
DTSTART:20260501T210000Z
DTEND:20260501T220000Z
LOCATION:Kline's Dairy Bar
SUMMARY:Harrisonburg First Friday Ice Cream Ride
DESCRIPTION:RSVP HERE We are kicking off Bike Month with a First Friday Ice
  Cream Ride to Klines! This will be a casual\,  around-town bike ride desig
 ned for the whole family. Before enjoying the rest of your evening downtown
 \,  this will be a mellow and gentle ride through town. All are[..]\nhttps:
 //svbcoalition.org/events/harrisonburg-first-friday-ice-cream-ride/
URL:https://svbcoalition.org/events/harrisonburg-first-friday-ice-cream-ride/
END:VEVENT
END:VCALENDAR